BEGIN:VCALENDAR
VERSION:2.0
PRODID:icalendar-ruby
CALSCALE:GREGORIAN
METHOD:PUBLISH
BEGIN:VEVENT
DTSTAMP:20260426T001337Z
UID:11-3272563@sslc.org
DTSTART:20260916T233000Z
DTEND:20260917T003000Z
CLASS:PUBLIC
CREATED:20260425T173048
DESCRIPTION:
LAST-MODIFIED:20260425T173048
LOCATION:Fellowship Hall
SUMMARY:AA and Al-Anon
URL;VALUE=URI:https://www.sslc.org/events/aa-and-al-anon/2026-09-16
ATTACH;FILENAME=AA.jpg;FMTTYPE=image/jpeg:https://dq5pwpg1q8ru0.cloudfront.
 net/2020/06/10/07/12/19/976b015b-4d11-435a-8115-192748033e21/AA.jpg
END:VEVENT
END:VCALENDAR
