BEGIN:VCALENDAR
VERSION:2.0
PRODID:icalendar-ruby
CALSCALE:GREGORIAN
METHOD:PUBLISH
BEGIN:VEVENT
DTSTAMP:20260426T010606Z
UID:226-3275033@sslc.org
DTSTART:20221218T144500Z
DTEND:20221218T154500Z
CLASS:PUBLIC
CREATED:20260425T201402
DESCRIPTION:
LAST-MODIFIED:20260425T201402
LOCATION:
SUMMARY:Sunday School for all ages
URL;VALUE=URI:https://www.sslc.org/events/sunday-school-for-all-ages/2022-1
 2-18
ATTACH;FILENAME=SS.jpg;FMTTYPE=image/jpeg:https://dq5pwpg1q8ru0.cloudfront.
 net/2021/07/27/12/01/40/27481c5a-296a-43ad-9827-1b8c513c49d5/SS.jpg
END:VEVENT
END:VCALENDAR
